BEGIN:VCALENDAR
VERSION:2.0
PRODID:-//Združenie pre kariérové poradenstvo a rozvoj kariéry - ECPv6.15.14//NONSGML v1.0//EN
CALSCALE:GREGORIAN
METHOD:PUBLISH
X-ORIGINAL-URL:https://rozvojkariery.sk
X-WR-CALDESC:Udalosti pre Združenie pre kariérové poradenstvo a rozvoj kariéry
REFRESH-INTERVAL;VALUE=DURATION:PT1H
X-Robots-Tag:noindex
X-PUBLISHED-TTL:PT1H
BEGIN:VTIMEZONE
TZID:Europe/Bratislava
BEGIN:DAYLIGHT
TZOFFSETFROM:+0100
TZOFFSETTO:+0200
TZNAME:CEST
DTSTART:20250330T010000
END:DAYLIGHT
BEGIN:STANDARD
TZOFFSETFROM:+0200
TZOFFSETTO:+0100
TZNAME:CET
DTSTART:20251026T010000
END:STANDARD
BEGIN:DAYLIGHT
TZOFFSETFROM:+0100
TZOFFSETTO:+0200
TZNAME:CEST
DTSTART:20260329T010000
END:DAYLIGHT
BEGIN:STANDARD
TZOFFSETFROM:+0200
TZOFFSETTO:+0100
TZNAME:CET
DTSTART:20261025T010000
END:STANDARD
BEGIN:DAYLIGHT
TZOFFSETFROM:+0100
TZOFFSETTO:+0200
TZNAME:CEST
DTSTART:20270328T010000
END:DAYLIGHT
BEGIN:STANDARD
TZOFFSETFROM:+0200
TZOFFSETTO:+0100
TZNAME:CET
DTSTART:20271031T010000
END:STANDARD
END:VTIMEZONE
BEGIN:VEVENT
DTSTART;TZID=Europe/Bratislava:20260325T093000
DTEND;TZID=Europe/Bratislava:20260325T160000
DTSTAMP:20260426T033915
CREATED:20260114T141207Z
LAST-MODIFIED:20260323T124231Z
UID:162170-1774431000-1774454400@rozvojkariery.sk
SUMMARY:Konferencia ZKPRK 2026 - ako prakticky na udržateľné kariérové poradenstvo?
DESCRIPTION:Keď si zapneme správy\, čoraz častejšie počujeme príbehy o klimatickej zmene a environmentálnej kríze. A v každodennom živote sme často vyzývané a vyzývaní\, aby sme recyklovali\, kupovali „zelené“ produkty a premýšľali o svojej uhlíkovej stope. Tento „hluk“ nás môže paralyzovať a zanechať v neistote\, čo vlastne robiť. Ktoré kroky naozaj dokážu pohnúť takým obrovským problémom? A pohľadov na túto tému je veľa. Ako kariérová poradkyňa alebo kariérový poradca si možno myslíte\, že celé toto “ekologické a klimatické šialenstvo” je mimo rámca vašej práce\, ktorou je pomáhať ľuďom rozvíjať sa\, učiť sa a nachádzať zmysluplnú prácu. No keď sa nad tým zastavíme\, môžeme tieto veci od seba naozaj oddeliť? \nKonferencia ZKPRK  nám pomôže preskúmať tieto otázky a zamyslieť sa nad tým\, ako by kariérové ​​poradenstvo mohlo skromne prispieť nielen k adaptácii\, ale aj k spoločenskej transformácii. Bude čerpať z konkrétnych skúseností odborníkov a odborníčok z celej Európy\, ktorí testovali a implementovali zelené poradenstvo do svojej každodennej práce. \nNa konferencii sa dozviete\, ako je prakticky možné pomôcť klientom pripraviť sa na zmeny na trhu práce súvisiace s prechodom na udržateľnú ekonomiku a s dekarbonizáciou slovenskej ekonomiky. Predstavené budú praktické nástroje kariérového poradenstva\, ktoré ľuďom v ktoromkoľvek veku a situácii (žiakom\, študentom\, nezamestnaným\, pracujúcim…) umožnia objaviť príležitosti v zelenej ekonomike\, porozumieť\, ako sa budú ich pracovné miesta meniť v budúcnosti.  \nZároveň budú predstavené aj praktické možnosti práce o tom\, ako pomáhať ľuďom rozvíjať zručnosti\, ktoré im umožnia rozumieť súvislostiam medzi súčasným ekonomickým modelom postavenom na neustálom raste a ekologickou krízou\, kriticky reflektovať jej štrukturálne príčiny a byť aktérmi a aktérkami v tejto nevyhnutnej spoločensko-ekologickej transformácii.Každý účastník a účastníčka získa tlačenú verziu praktickej príručky zeleného poradenstva s viac ako 30 nástrojmi pre všetky vekové skupiny. Niektoré časti konferencie budú v angličtine\, tlmočenie do slovenčiny bude zabezpečené. \n\n\n\n\n\n\n\nHosťky a hostia ZKPRK\n\n\n\n\n\nRichard Sťahel (SK): Docent na Filozofickom ústave Slovenskej akadémie vied (Bratislava). Vo svojej práci sa zaoberá environmentálnou politickou filozofiou\, kritikou antropocénu\, ekologickou demokraciou – ukazuje\, ako musí evolučná politická teória reagovať na planetárnu nestabilitu a ekologickú spravodlivosť.\n\n \n\n\n\n\n\n\nMiriam Dimsits (DK): Skúsená odborníčka v oblasti kariérového poradenstva\, výskumníčka a docentka na VIA University College\, priekopníčka environmentálne udržateľného kariérového poradenstva\, ktorá vzdeláva a podporuje odborníkov a odnorníčky z praxe v integrácii udržateľnosti do každodennej práce.\n\n \n\n\n\n\n\n\nTristram Hooley (UK): Profesor (Univerzita v Derby) a medzinárodne uznávaný výskumník v oblasti kariérového poradenstva. Zameriava sa na to\, ako poradenské systémy formujú vzdelávacie a životné ašpirácie\, ako sa prelínajú s politikou a ako musia brať sociálnu spravodlivosť vážne\, a to aj vzhľadom na dopady klimatickej zmeny na trh práce.\n\n \n\n\n\n\n\n\nMariana Sofia Lucas Casanova (PT): Psychologička s dvadsiatimi rokmi skúseností v klinickej\, pedagogickej a pracovnej psychológii\, v súčasnosti postdoktorandka v oblasti kariérového rozvoja na Polytechnickom inštitúte Porto (Portugalsko). Zaoberá sa výskumom v oblasti kritickej pedagogiky\, etiky\, nestrannosti a udržateľnosti v kariérovom poradenstve.\n\n \n\n\n\n\n\n\nEva Kavková (CZ): Praktická výskumníčka aktívna v projekte Exploring Green Guidance\, ktorá pracuje v českom kontexte s cieľom pomôcť tvoriť a testovať pedagogické nástroje pre udržateľné kariérové poradenstvo. Spolupracuje s rôznymi partnermi v oblasti poradenstva na medzinárodnej úrovni.\n\n \n\n\n\n\n\n\nIngrid Bårdsdatter Bakke (NO): Docentka a výskumníčka v oblasti kariérového poradenstva na Inland Norway University of Applied Sciences\, kde pracuje na pomädzí kariérového rozvoja\, organizačnej psychológie a pedagogického výskumu. Jej práca zahŕňa teóriu kariérového poradenstva\, profesionalizáciu poradenskej praxe a implementáciu udržateľných a integrovaných prístupov k poradenstvu.\n\n \n\n\n\n\n\nProgram\n9:30 – Privítanie a otvorenie Martinom Martinkovičom (ZKPRK) \n9:45 – Keynote 1: Rozvrat planetárneho systému a sociálno-environmentálna transformácia – Richard Sťahel \n10:30 – Keynote 2: 5 dimenzií environmentálne udržateľného kariérového poradenstva – Miriam Dimsit \n11:00 – Prezentácia projektu – Metodika zeleného poradenstva – Eva Kavková a ďalší členovia tímu \n11:30 – Prezentácia skúseností ambasádoriek a ambasádorov zeleného poradenstva: Marcela Faráriková\, Dominika Brol\, Zuzana Kožárová\, Ildikó Hanuliaková a Magdalena Rusińska (moderuje Katarína Adam Štukovská) \n  \n12:30 – Obed (catering na mieste) \n  \n13:30 – Interaktívne workshopy \nA) Poradenstvo\, klíma a etika – Mariana Casanova  \nB) Ako otvárať otázku udržateľnosti v poradenskom procese – Ingrid Bårdsdatter Bakke \nC) Ukážka nástrojov a príbehy ambasádorov \n15:00 – Záverečná keynote: Aký je zmysel a možné dopady zeleného poradenstva\, a čo je potrebné ďalej? – Tristram Hooley \n16:00 – Záverečné zhrnutie a ukončenie   \n  \nÚčasť na konferencii je bezplatná\, aj vďaka finančnej podpore Európskej únie v rámci projektu Erasmus+ Exploring Green Guidance. \n  \nPre účasť je potrebné zaregistrovať sa tu.
URL:https://rozvojkariery.sk/events/konferencia-zkprk-2026-karierove-poradenstvo-v-ekologickej-a-socialnej-transformacii/
LOCATION:Stará jedáleň\, Pekná cesta 3020\, Bratislava\, 831 52\, Slovenská republika
ATTACH;FMTTYPE=image/png:https://rozvojkariery.sk/wp-content/uploads/2026/01/konferencia-gg-SK-2026.png
ORGANIZER;CN="Zdru%C5%BEenie pre kari%C3%A9rov%C3%A9 poradenstvo a rozvoj kari%C3%A9ry":MAILTO:info@zkprk.sk
END:VEVENT
BEGIN:VEVENT
DTSTART;TZID=Europe/Bratislava:20260408T160000
DTEND;TZID=Europe/Bratislava:20260408T173000
DTSTAMP:20260426T033915
CREATED:20260315T091034Z
LAST-MODIFIED:20260318T092551Z
UID:162185-1775664000-1775669400@rozvojkariery.sk
SUMMARY:Úloha profesijných združení pri formovaní praxe a systémov kariérového poradenstva - príklady dobrej praxe zo strednej a východnej Európy
DESCRIPTION:Tento webinár predstaví úlohu profesijných združení v rozvoji kariérového poradenstva v krajinách strednej a východnej Európy. Vychádza z nedávneho výskumu realizovaného profesijnými združeniami na Slovensku\, v Česku\, Maďarsku a Rumunsku\, ktorý sa zameral na to\, ako tieto organizácie podporujú svojich členov\, spolupracujú s rôznymi aktérmi a prispievajú k rozvoju národných systémov kariérového poradenstva. \nVýsledky ukazujú\, že profesijné združenia zohrávajú dôležitú\, hoci často nedostatočne podporovanú úlohu. Pomáhajú najmä v dvoch oblastiach: podporujú profesijný rozvoj odborníkov a zároveň prispievajú k tomu\, aby bolo kariérové poradenstvo viac viditeľné a uznávané v systéme vzdelávania\, trhu práce a verejných politík. \nPo krátkom predstavení výskumnej správy každé združenie predstaví konkrétne príklady svojej praxe. Pôjde napríklad o spôsoby\, ako organizácie vzdelávajú svojich členov\, zdieľajú nástroje a zdroje\, vytvárajú priestor na výmenu skúseností\, propagujú kariérové poradenstvo alebo komunikujú s tvorcami politík. \nWebinár zároveň otvorí diskusiu o spoločných výzvach v regióne – napríklad o potrebe silnejšej profesijnej komunity\, jasnejších profesijných štandardov\, lepšej dostupnosti služieb kariérového poradenstva alebo väčšej viditeľnosti tejto oblasti v spoločnosti. \nPodujatie je určené pre kariérových poradcov\, odborníkov z oblasti vzdelávania a trhu práce\, výskumníkov\, tvorcov politík aj všetkých\, ktorých zaujíma rozvoj kariérového poradenstva v našom regióne. \n\nRegistrácia: https://forms.cloud.microsoft/Pages/ResponsePage.aspx?id=D5gPWIfzCEuoV1A1erb6mF4k8EEnIz1Moz37PgNrlp9UMEo2NUxCQ00xMkxGN05ETElESUFFT1MwMy4u&lang=SK \nPripojenie: https://us02web.zoom.us/j/84615108380?pwd=KFVGv5bRKEsVpdTa3kBSREMmFZdE6v.1
URL:https://rozvojkariery.sk/events/uloha-profesijnych-zdruzeni-pri-formovani-praxe-a-systemov-karieroveho-poradenstva-priklady-dobrej-praxe-zo-strednej-a-vychodnej-europy/
ATTACH;FMTTYPE=image/png:https://rozvojkariery.sk/wp-content/uploads/2026/03/CEEGAF-associations.png
ORGANIZER;CN="Zdru%C5%BEenie pre kari%C3%A9rov%C3%A9 poradenstvo a rozvoj kari%C3%A9ry":MAILTO:info@zkprk.sk
END:VEVENT
BEGIN:VEVENT
DTSTART;TZID=Europe/Bratislava:20260622T093000
DTEND;TZID=Europe/Bratislava:20260622T153000
DTSTAMP:20260426T033915
CREATED:20260414T141545Z
LAST-MODIFIED:20260414T141832Z
UID:162194-1782120600-1782142200@rozvojkariery.sk
SUMMARY:Konferencia ZKPRK 2026 - Cesta ku kvalifikácii v kariérovom poradenstve
DESCRIPTION:Konferencia “Cesta ku kvalifikácii v kariérovom poradenstve” sa uskutoční 22. júna 2026 a zameriava sa na aktuálne výzvy\, štandardy a uznanie kvalifikácie v kariérovom poradenstve v oblasti vzdelávania dospelých. Podujatie zároveň vytvára priestor pre medzinárodnú spoluprácu a dialóg medzi odbornými združeniami v strednej Európe. Súčasťou programu bude aj ustanovujúce stretnutie smerujúce k vytvoreniu Stredoeurópskeho fóra združení pre kariérové poradenstvo\, za účasti zástupcov a zástupkýň z Českej republiky\, Maďarska a Rumunska. \nPredbežný program:\n9:30 – 12:00: Kvalifikácia kariérových poradcov vo vzdelávaní dospelých\n13:00 – 15:00: Ustanovujúca konferencia k založeniu Stredoeurópskeho fóra združení pre kariérové poradenstvo \nMiesto konania:Fakulta sociálnych a ekonomických vied Univerzity Komenského v BratislaveMlynské luhy 4\, 821 05 Bratislava \nRegistrácia:\nRegistračný formulár\n \n– For English speaking guests –\nThe conference “Pathway to Qualification in Career guidance” will take place on June 22\, 2026\, focusing on current challenges\, standards\, and the development of qualifications in career guidance\, particularly in adult education. The event will also provide a platform for international cooperation and dialogue among professional associations in Central Europe. A key part of the program will be the inaugural meeting aimed at establishing the Central European Forum of Associations for Career Counseling\, with representatives from the Czech Republic\, Hungary\, and Romania. \nPreliminary program:\n9:30 – 12:00: Qualification of career counselors in adult education in Slovakia\n13:00 – 15:00: Inaugural conference on the establishment of the Central European Forum of Associations for Career Counseling \nLocation:Faculty of Social and Economic Sciences\, Comenius University in Bratislava\, Mlynské luhy 4\, 821 05 Bratislava\, Slovakia \nRegistration:\nRegistration Form
URL:https://rozvojkariery.sk/events/konferencia-zkprk-2026-cesta-ku-kvalifikacii-v-karierovom-poradenstve/
LOCATION:Fakulta sociálnych a ekonomických vied Univerzity Komenského v Bratislave\, Mlynské luhy 4\, Bratislava\, 82105\, Slovakia (Slovak Republic)
ATTACH;FMTTYPE=image/png:https://rozvojkariery.sk/wp-content/uploads/2026/04/Screenshot-2026-04-14-161130-e1776175962644.png
ORGANIZER;CN="Zdru%C5%BEenie pre kari%C3%A9rov%C3%A9 poradenstvo a rozvoj kari%C3%A9ry":MAILTO:info@zkprk.sk
END:VEVENT
END:VCALENDAR